BEGIN:VCALENDAR
VERSION:2.0
METHOD:PUBLISH
CALSCALE:GREGORIAN
PRODID:-//WordPress - MECv7.29.0//EN
X-ORIGINAL-URL:https://vicaguatemala.org/
X-WR-CALNAME:Vicaria San Carlo Acutis
X-WR-CALDESC:Vicaria para los movimientos laicales de la Arquidiócesis de Guatemala
X-WR-TIMEZONE:America/Guatemala
BEGIN:VTIMEZONE
TZID:America/Guatemala
X-LIC-LOCATION:America/Guatemala
BEGIN:STANDARD
TZOFFSETFROM:-0600
TZOFFSETTO:-0600
TZNAME:CST
DTSTART:20260421T062422
END:STANDARD
END:VTIMEZONE
REFRESH-INTERVAL;VALUE=DURATION:PT1H
X-PUBLISHED-TTL:PT1H
X-MS-OLK-FORCEINSPECTOROPEN:TRUE
BEGIN:VEVENT
CLASS:PUBLIC
UID:MEC-19b650660b253761af189682e03501dd@vicaguatemala.org
DTSTART;TZID=America/Guatemala:20261205T090000
DTEND;TZID=America/Guatemala:20261205T110000
DTSTAMP:20260108T140925Z
CREATED:20260108
LAST-MODIFIED:20260108
PRIORITY:5
SEQUENCE:6
TRANSP:OPAQUE
SUMMARY:Convivio Vicaria San Carlos Acutis
DESCRIPTION:
URL:https://vicaguatemala.org/eventos/convivio-vicaria-san-carlos-acutis/
LOCATION:Kilómetro 15.5, Calzada Roosevelt, Zona 3 de Mixco, Guatemala
END:VEVENT
BEGIN:VEVENT
CLASS:PUBLIC
UID:MEC-5ec91aac30eae62f4140325d09b9afd0@vicaguatemala.org
DTSTART;TZID=America/Guatemala:20261107T090000
DTEND;TZID=America/Guatemala:20261107T110000
DTSTAMP:20260108T140832Z
CREATED:20260108
LAST-MODIFIED:20260108
PRIORITY:5
SEQUENCE:5
TRANSP:OPAQUE
SUMMARY:Reunión Vicaria San Carlos Acutis
DESCRIPTION:
URL:https://vicaguatemala.org/eventos/reunion-vicaria-san-carlos-acutis-8/
LOCATION:Kilómetro 15.5, Calzada Roosevelt, Zona 3 de Mixco, Guatemala
END:VEVENT
BEGIN:VEVENT
CLASS:PUBLIC
UID:MEC-f9a40a4780f5e1306c46f1c8daecee3b@vicaguatemala.org
DTSTART;TZID=America/Guatemala:20261003T090000
DTEND;TZID=America/Guatemala:20261003T110000
DTSTAMP:20260108T140723Z
CREATED:20260108
LAST-MODIFIED:20260108
PRIORITY:5
SEQUENCE:4
TRANSP:OPAQUE
SUMMARY:Reunión Vicaria San Carlos Acutis
DESCRIPTION:
URL:https://vicaguatemala.org/eventos/reunion-vicaria-san-carlos-acutis-7/
LOCATION:Kilómetro 15.5, Calzada Roosevelt, Zona 3 de Mixco, Guatemala
END:VEVENT
BEGIN:VEVENT
CLASS:PUBLIC
UID:MEC-fc49306d97602c8ed1be1dfbf0835ead@vicaguatemala.org
DTSTART;TZID=America/Guatemala:20260905T090000
DTEND;TZID=America/Guatemala:20260905T110000
DTSTAMP:20260108T140648Z
CREATED:20260108
LAST-MODIFIED:20260108
PRIORITY:5
SEQUENCE:3
TRANSP:OPAQUE
SUMMARY:Reunión Vicaria San Carlos Acutis
DESCRIPTION:
URL:https://vicaguatemala.org/eventos/reunion-vicaria-san-carlos-acutis-6/
LOCATION:Kilómetro 15.5, Calzada Roosevelt, Zona 3 de Mixco, Guatemala
END:VEVENT
BEGIN:VEVENT
CLASS:PUBLIC
UID:MEC-2a084e55c87b1ebcdaad1f62fdbbac8e@vicaguatemala.org
DTSTART;TZID=America/Guatemala:20260801T090000
DTEND;TZID=America/Guatemala:20260801T110000
DTSTAMP:20260108T140552Z
CREATED:20260108
LAST-MODIFIED:20260108
PRIORITY:5
SEQUENCE:2
TRANSP:OPAQUE
SUMMARY:Reunión Vicaria San Carlos Acutis
DESCRIPTION:
URL:https://vicaguatemala.org/eventos/reunion-vicaria-san-carlos-acutis-5/
LOCATION:Kilómetro 15.5, Calzada Roosevelt, Zona 3 de Mixco, Guatemala
END:VEVENT
BEGIN:VEVENT
CLASS:PUBLIC
UID:MEC-a67f096809415ca1c9f112d96d27689b@vicaguatemala.org
DTSTART;TZID=America/Guatemala:20260704T090000
DTEND;TZID=America/Guatemala:20260704T110000
DTSTAMP:20260108T140500Z
CREATED:20260108
LAST-MODIFIED:20260108
PRIORITY:5
SEQUENCE:2
TRANSP:OPAQUE
SUMMARY:Reunión Vicaria San Carlos Acutis
DESCRIPTION:
URL:https://vicaguatemala.org/eventos/reunion-vicaria-san-carlos-acutis-4/
LOCATION:Kilómetro 15.5, Calzada Roosevelt, Zona 3 de Mixco, Guatemala
END:VEVENT
BEGIN:VEVENT
CLASS:PUBLIC
UID:MEC-847cc55b7032108eee6dd897f3bca8a5@vicaguatemala.org
DTSTART;TZID=America/Guatemala:20260606T090000
DTEND;TZID=America/Guatemala:20260606T110000
DTSTAMP:20260108T140330Z
CREATED:20260108
LAST-MODIFIED:20260108
PRIORITY:5
SEQUENCE:3
TRANSP:OPAQUE
SUMMARY:Reunión Vicaria San Carlos Acutis
DESCRIPTION:
URL:https://vicaguatemala.org/eventos/reunion-vicaria-san-carlos-acutis-3/
LOCATION:Kilómetro 15.5, Calzada Roosevelt, Zona 3 de Mixco, Guatemala
END:VEVENT
BEGIN:VEVENT
CLASS:PUBLIC
UID:MEC-8c235f89a8143a28a1d6067e959dd858@vicaguatemala.org
DTSTART;TZID=America/Guatemala:20260502T090000
DTEND;TZID=America/Guatemala:20260502T110000
DTSTAMP:20260108T140134Z
CREATED:20260108
LAST-MODIFIED:20260108
PRIORITY:5
SEQUENCE:2
TRANSP:OPAQUE
SUMMARY:Reunión Vicaria San Carlos Acutis
DESCRIPTION:
URL:https://vicaguatemala.org/eventos/reunion-vicaria-san-carlos-acutis-2/
LOCATION:Kilómetro 15.5, Calzada Roosevelt, Zona 3 de Mixco, Guatemala
END:VEVENT
BEGIN:VEVENT
CLASS:PUBLIC
UID:MEC-f7e9050c92a851b0016442ab604b0488@vicaguatemala.org
DTSTART;TZID=America/Guatemala:20260307T090000
DTEND;TZID=America/Guatemala:20260307T110000
DTSTAMP:20260108T135147Z
CREATED:20260108
LAST-MODIFIED:20260108
PRIORITY:5
SEQUENCE:0
TRANSP:OPAQUE
SUMMARY:Reunión Vicaria San Carlos Acutis
DESCRIPTION:
URL:https://vicaguatemala.org/eventos/reunion-vicaria-san-carlos-acutis/
LOCATION:Kilómetro 15.5, Calzada Roosevelt, Zona 3 de Mixco, Guatemala
END:VEVENT
BEGIN:VEVENT
CLASS:PUBLIC
UID:MEC-f4552671f8909587cf485ea990207f3b@vicaguatemala.org
DTSTART;TZID=America/Guatemala:20260207T090000
DTEND;TZID=America/Guatemala:20260207T120000
DTSTAMP:20260108T080121Z
CREATED:20260108
LAST-MODIFIED:20260114
PRIORITY:5
SEQUENCE:14
TRANSP:OPAQUE
SUMMARY:Asamblea «Convertidos para Servir»
DESCRIPTION:\nAsamblea de inicio de año 2026.\nConvertidos para Servir.\nInicio:  9 de la mañana.\nFinaliza: 12 del medio día.\nPor favor, tomar en cuenta lo siguiente:\n1.⁠ ⁠La invitación es para todos los integrantes de su movimiento.\n2.⁠ ⁠Se debe hacer un solo depósito por movimiento, ofrenda Q. 30.00 por persona.\n3.⁠ ⁠Llenar solo un formulario de inscripción, también por movimiento.\n4.⁠ ⁠Último día de inscripción: sábado 31 de enero.\n5.⁠ ⁠Oremos por nuestra Vicaría y por los frutos de esta Asamblea.\nFormulario de inscripción, lo tiene el representante ante la Vicaria.\n
URL:https://vicaguatemala.org/eventos/asamblea-convertidos-para-servir/
LOCATION:Mixco, Guatemala
END:VEVENT
END:VCALENDAR
